BEGIN:VCALENDAR
VERSION:2.0
PRODID:-//Pawsitive Pantry - ECPv6.15.17.1//NONSGML v1.0//EN
CALSCALE:GREGORIAN
METHOD:PUBLISH
X-ORIGINAL-URL:https://pawsitivepantry.org
X-WR-CALDESC:Events for Pawsitive Pantry
REFRESH-INTERVAL;VALUE=DURATION:PT1H
X-Robots-Tag:noindex
X-PUBLISHED-TTL:PT1H
BEGIN:VTIMEZONE
TZID:America/New_York
BEGIN:DAYLIGHT
TZOFFSETFROM:-0500
TZOFFSETTO:-0400
TZNAME:EDT
DTSTART:20240310T070000
END:DAYLIGHT
BEGIN:STANDARD
TZOFFSETFROM:-0400
TZOFFSETTO:-0500
TZNAME:EST
DTSTART:20241103T060000
END:STANDARD
BEGIN:DAYLIGHT
TZOFFSETFROM:-0500
TZOFFSETTO:-0400
TZNAME:EDT
DTSTART:20250309T070000
END:DAYLIGHT
BEGIN:STANDARD
TZOFFSETFROM:-0400
TZOFFSETTO:-0500
TZNAME:EST
DTSTART:20251102T060000
END:STANDARD
BEGIN:DAYLIGHT
TZOFFSETFROM:-0500
TZOFFSETTO:-0400
TZNAME:EDT
DTSTART:20260308T070000
END:DAYLIGHT
BEGIN:STANDARD
TZOFFSETFROM:-0400
TZOFFSETTO:-0500
TZNAME:EST
DTSTART:20261101T060000
END:STANDARD
END:VTIMEZONE
BEGIN:VEVENT
DTSTART;VALUE=DATE:20251103
DTEND;VALUE=DATE:20251118
DTSTAMP:20260419T223442
CREATED:20250920T173319Z
LAST-MODIFIED:20250920T173319Z
UID:9166-1762128000-1763423999@pawsitivepantry.org
SUMMARY:Paw-It-Forward Online Auction
DESCRIPTION:Pawsitive Pantry is hosting its third annual Paw-It-Forward Online Auction November 3 – 17\, 2025! \nPlease consider donating an item and/or bidding on an item to support the families we serve. \nFunds raised via our online auction help those in our communities who are struggling financially\, as well as their pets. This ultimately contributes to the wellbeing of both people and pets by keeping them together as families while also reducing surrenders to already-strained animal shelters. \nWe provide approximately 8\,100 cat meals and 4\,500 dog meals per month for free to pet owners in Vermont and Massachusetts\, via food pantries to keep people and pets together and reduce pet surrenders to shelters. \nPlease consider donating an item by October 1st\, and/or bidding on an item during the live auction November 3rd – 17th. \nThank you for your generosity! Your support means the world to the families we serve. \nPlease contact us with any questions at pawsitivepantry@gmail.com.
URL:https://pawsitivepantry.org/event/paw-it-forward-online-auction/
LOCATION:Online
END:VEVENT
END:VCALENDAR